BEGIN:VCALENDAR
PRODID:-//PUBBLE//agenda//NL
VERSION:2.0
METHOD:PUBLISH
BEGIN:VEVENT
DTSTART:20220412T081020Z
DTEND:20220412T091020Z
DTSTAMP:20260424T150120Z
UID:de5e7a7e-1494-4c64-a8c3-45c3be2b7254
CREATED:20260424T150120Z
NAME:Bluesfestival met diverse bands rodi.nl
X-WR-CALNAME:Bluesfestival met diverse bands
X-ALT-DESC;FMTTYPE=text/html:<a href='/medemblik/agenda/2022/4/16/bluesfestival-met-diverse-bands-293891'>/medemblik/agenda/2022/4/16/bluesfestival-met-diverse-bands-293891</a> || <p class="PLAT" pstyle="PLAT">Double U Bean, The Twelve Bar Blues Band en The Blues Basterds treden live op in De Schoof. Een avondje scheurende gitaren, pompende baslijnen en rauwe stemmen, eindelijk weer onvervalste live bluesmuziek.<br />In de voorverkoop kost een kaart 10 euro via <a href="https://www.ticketkantoor.nl/shop/BFW" target="_blank">https://www.ticketkantoor.nl/shop/BFW</a> Aan de deur halen kan ook, mits het uitverkocht. Aan de deur kost een kaartje 13 euro.</p>
DESCRIPTION:<a href='/medemblik/agenda/2022/4/16/bluesfestival-met-diverse-bands-293891'>/medemblik/agenda/2022/4/16/bluesfestival-met-diverse-bands-293891</a> || <p class="PLAT" pstyle="PLAT">Double U Bean, The Twelve Bar Blues Band en The Blues Basterds treden live op in De Schoof. Een avondje scheurende gitaren, pompende baslijnen en rauwe stemmen, eindelijk weer onvervalste live bluesmuziek.<br />In de voorverkoop kost een kaart 10 euro via <a href="https://www.ticketkantoor.nl/shop/BFW" target="_blank">https://www.ticketkantoor.nl/shop/BFW</a> Aan de deur halen kan ook, mits het uitverkocht. Aan de deur kost een kaartje 13 euro.</p>
LAST-MODIFIED:20260424T150120Z
LOCATION: De Schoof | Kerkelaantje 1 Wervershoof
SEQUENCE:0
STATUS:CONFIRMED
SUMMARY:Bluesfestival met diverse bands
TRANSP:OPAQUE
END:VEVENT
END:VCALENDAR
