BEGIN:VCALENDAR
PRODID:-//PUBBLE//agenda//NL
VERSION:2.0
METHOD:PUBLISH
BEGIN:VEVENT
DTSTART:20221228T083615Z
DTEND:20221228T093615Z
DTSTAMP:20260422T170404Z
UID:57658530-73ea-4a97-b115-42cf6d31fa11
CREATED:20260422T170404Z
NAME:Doe mee met de Mijl van De Weere rodi.nl
X-WR-CALNAME:Doe mee met de Mijl van De Weere
X-ALT-DESC;FMTTYPE=text/html:<a href='/opmeer/agenda/2023/12/8/doe-mee-met-de-mijl-van-de-weere-324194'>/opmeer/agenda/2023/12/8/doe-mee-met-de-mijl-van-de-weere-324194</a> || <p class="PLAT" pstyle="PLAT">Voor de editie van 2023 staan er twee veranderingen op het programma:</p><p class="PLAT" pstyle="PLAT">online inschrijven via <a href="https://vvdwb.nl/" target="_blank">https://vvdwb.nl/</a> ;</p><p class="PLAT" pstyle="PLAT">de 8,2 km verdwijnt en maakt die plaats voor 9 km; twee rondjes van 4,5 km en wordt bijna in zijn geheel door het dorp gelopen.</p><p pstyle="PLAT">Alle sportievelingen zijn van harte welkom om zich in te schrijven. Meer informatie is ook te vinden op Facebook of de website van DWB.</p>
DESCRIPTION:<a href='/opmeer/agenda/2023/12/8/doe-mee-met-de-mijl-van-de-weere-324194'>/opmeer/agenda/2023/12/8/doe-mee-met-de-mijl-van-de-weere-324194</a> || <p class="PLAT" pstyle="PLAT">Voor de editie van 2023 staan er twee veranderingen op het programma:</p><p class="PLAT" pstyle="PLAT">online inschrijven via <a href="https://vvdwb.nl/" target="_blank">https://vvdwb.nl/</a> ;</p><p class="PLAT" pstyle="PLAT">de 8,2 km verdwijnt en maakt die plaats voor 9 km; twee rondjes van 4,5 km en wordt bijna in zijn geheel door het dorp gelopen.</p><p pstyle="PLAT">Alle sportievelingen zijn van harte welkom om zich in te schrijven. Meer informatie is ook te vinden op Facebook of de website van DWB.</p>
LAST-MODIFIED:20260422T170404Z
LOCATION: Cafe 't Centrum | Driestedenweg 126 De Weere
SEQUENCE:0
STATUS:CONFIRMED
SUMMARY:Doe mee met de Mijl van De Weere
TRANSP:OPAQUE
END:VEVENT
END:VCALENDAR
