BEGIN:VCALENDAR
PRODID:-//PUBBLE//agenda//NL
VERSION:2.0
METHOD:PUBLISH
BEGIN:VEVENT
DTSTART:20230814T131930Z
DTEND:20230826T150000Z
DTSTAMP:20260425T151833Z
UID:ee09aae4-4a5e-47bc-9f28-f17a2671b08c
CREATED:20260425T151833Z
NAME:Jaarmarkt Blokker rodi.nl
X-WR-CALNAME:Jaarmarkt Blokker
X-ALT-DESC;FMTTYPE=text/html:<a href='/hoorn/agenda/2023/8/26/jaarmarkt-blokker-353119'>/hoorn/agenda/2023/8/26/jaarmarkt-blokker-353119</a> || <p class="PLAT" pstyle="PLAT">De jaarmarkt in Blokker vindt dit jaar zaterdag 26 augustus plaats, met circa 150 kramen die te vinden zijn op de Westerblokker, tussen de busbaan en Kolenbergstraat en rondom het plein bij juwelier Ben de Haan.</p>
DESCRIPTION:<a href='/hoorn/agenda/2023/8/26/jaarmarkt-blokker-353119'>/hoorn/agenda/2023/8/26/jaarmarkt-blokker-353119</a> || <p class="PLAT" pstyle="PLAT">De jaarmarkt in Blokker vindt dit jaar zaterdag 26 augustus plaats, met circa 150 kramen die te vinden zijn op de Westerblokker, tussen de busbaan en Kolenbergstraat en rondom het plein bij juwelier Ben de Haan.</p>
LAST-MODIFIED:20260425T151833Z
LOCATION: Het Gouden Hoofd | Westerblokker 80 Blokker en Zwaag
SEQUENCE:0
STATUS:CONFIRMED
SUMMARY:Jaarmarkt Blokker
TRANSP:OPAQUE
END:VEVENT
END:VCALENDAR
