BEGIN:VCALENDAR
PRODID:-//PUBBLE//agenda//NL
VERSION:2.0
METHOD:PUBLISH
BEGIN:VEVENT
DTSTART:20240709T072347Z
DTEND:20240714T153000Z
DTSTAMP:20260423T154736Z
UID:0a221ad2-7d16-4a37-bc2b-3780e522723f
CREATED:20260423T154736Z
NAME:Expositie ‘Summer Rythm’ bij Atelier Bakkum met optreden van Vakgroep Sfeerbeheer rodi.nl
X-WR-CALNAME:Expositie ‘Summer Rythm’ bij Atelier Bakkum met optreden van Vakgroep Sfeerbeheer
X-ALT-DESC;FMTTYPE=text/html:<a href='/castricum/agenda/2024/7/14/expositie-summer-rythm-bij-atelier-bakkum-met-optreden-van-vakgroep-sfeerbeheer-402258'>/castricum/agenda/2024/7/14/expositie-summer-rythm-bij-atelier-bakkum-met-optreden-van-vakgroep-sfeerbeheer-402258</a> || <p class="PLAT" pstyle="PLAT"><strong class="LEAD">BAKKUM - Van 12 juli tot 9 augustus is de expositie ‘Summer Rythm’ te beleven bij Atelier Bakkum. Elke vrijdag en elk tweede weekend van de maand is deze locatie aan de van Oldenbarneveldweg 32 van 13.00 tot 18.00 uur open. Er is werk te zien van beeldend kunstenaar en kruidenvrouw Mireille Schermer, schilderes Sabrina Tacci, beeldhouwer en fotografe Marina Pronk en kunstcollectief CAKtwo (Berend Wijers, Fred Boon en Marina Pronk).</strong></p><p class="PLAT" pstyle="PLAT">Tijdens de open zondagen programmeert Marian Huiberts iedere maand een live optreden met steeds wisselende artiesten. Zondag 14 juli staat een optreden van Vakgroep Sfeerbeheer op het programma.</p><p class="PLAT" pstyle="PLAT">Het optreden is verdeeld over twee sets waarvan de eerste 15.30 uur start, de tweede 16.30 uur. Als altijd is de toegang gratis.</p>
DESCRIPTION:<a href='/castricum/agenda/2024/7/14/expositie-summer-rythm-bij-atelier-bakkum-met-optreden-van-vakgroep-sfeerbeheer-402258'>/castricum/agenda/2024/7/14/expositie-summer-rythm-bij-atelier-bakkum-met-optreden-van-vakgroep-sfeerbeheer-402258</a> || <p class="PLAT" pstyle="PLAT"><strong class="LEAD">BAKKUM - Van 12 juli tot 9 augustus is de expositie ‘Summer Rythm’ te beleven bij Atelier Bakkum. Elke vrijdag en elk tweede weekend van de maand is deze locatie aan de van Oldenbarneveldweg 32 van 13.00 tot 18.00 uur open. Er is werk te zien van beeldend kunstenaar en kruidenvrouw Mireille Schermer, schilderes Sabrina Tacci, beeldhouwer en fotografe Marina Pronk en kunstcollectief CAKtwo (Berend Wijers, Fred Boon en Marina Pronk).</strong></p><p class="PLAT" pstyle="PLAT">Tijdens de open zondagen programmeert Marian Huiberts iedere maand een live optreden met steeds wisselende artiesten. Zondag 14 juli staat een optreden van Vakgroep Sfeerbeheer op het programma.</p><p class="PLAT" pstyle="PLAT">Het optreden is verdeeld over twee sets waarvan de eerste 15.30 uur start, de tweede 16.30 uur. Als altijd is de toegang gratis.</p>
LAST-MODIFIED:20260423T154736Z
LOCATION: Atelier Marina & Sabrina | Van Oldenbarneveldweg 32 0,Bakkum
SEQUENCE:0
STATUS:CONFIRMED
SUMMARY:Expositie ‘Summer Rythm’ bij Atelier Bakkum met optreden van Vakgroep Sfeerbeheer
TRANSP:OPAQUE
END:VEVENT
END:VCALENDAR
