BEGIN:VCALENDAR
PRODID:-//PUBBLE//agenda//NL
VERSION:2.0
METHOD:PUBLISH
BEGIN:VEVENT
DTSTART:20241002T115837Z
DTEND:20241002T125837Z
DTSTAMP:20260423T110252Z
UID:c7554e0a-5f63-4943-9cd0-6979d3d4ee5b
CREATED:20260423T110252Z
NAME:Eerste concert in de reeks in Valkkoog rodi.nl
X-WR-CALNAME:Eerste concert in de reeks in Valkkoog
X-ALT-DESC;FMTTYPE=text/html:<a href='/schagen/agenda/2024/10/13/eerste-concert-in-de-reeks-in-valkkoog-413273'>/schagen/agenda/2024/10/13/eerste-concert-in-de-reeks-in-valkkoog-413273</a> || <p class="LEAD" pstyle="LEAD"><strong class="LEAD">VALKKOOG - Oleg Lysenko (accordeon, bayan en bandoneon) en Maya Fridman (cello) treden zondag 13 oktober op in het kerkje van Valkkoog. Hiermee openen zijn het concertseizoen 2024/2025. H</strong>et concert begint zondagmiddag 15.00 uur. Entreekaarten zijn via de website verkrijgbaar en bedragen 18,50 euro, prijs is inclusief een drankje. Kaarten en meer info via: www.kerkjevalkkoog.nl. De kerk gaat 14.30 uur open.&nbsp;</p>
DESCRIPTION:<a href='/schagen/agenda/2024/10/13/eerste-concert-in-de-reeks-in-valkkoog-413273'>/schagen/agenda/2024/10/13/eerste-concert-in-de-reeks-in-valkkoog-413273</a> || <p class="LEAD" pstyle="LEAD"><strong class="LEAD">VALKKOOG - Oleg Lysenko (accordeon, bayan en bandoneon) en Maya Fridman (cello) treden zondag 13 oktober op in het kerkje van Valkkoog. Hiermee openen zijn het concertseizoen 2024/2025. H</strong>et concert begint zondagmiddag 15.00 uur. Entreekaarten zijn via de website verkrijgbaar en bedragen 18,50 euro, prijs is inclusief een drankje. Kaarten en meer info via: www.kerkjevalkkoog.nl. De kerk gaat 14.30 uur open.&nbsp;</p>
LAST-MODIFIED:20260423T110252Z
LOCATION: Kerkje van Valkkoog | Valkkogerweg 39 Valkkoog
SEQUENCE:0
STATUS:CONFIRMED
SUMMARY:Eerste concert in de reeks in Valkkoog
TRANSP:OPAQUE
END:VEVENT
END:VCALENDAR
