BEGIN:VCALENDAR
PRODID:-//PUBBLE//agenda//NL
VERSION:2.0
METHOD:PUBLISH
BEGIN:VEVENT
DTSTART:20241209T072236Z
DTEND:20241214T133000Z
DTSTAMP:20260421T165607Z
UID:66b7cd4d-fbc9-4614-8d3a-729246d4a678
CREATED:20260421T165607Z
NAME:Repair Café in Gouden Gunje rodi.nl
X-WR-CALNAME:Repair Café in Gouden Gunje
X-ALT-DESC;FMTTYPE=text/html:<a href='/beverwijk/agenda/2024/12/14/repair-cafe-in-gouden-gunje-422988'>/beverwijk/agenda/2024/12/14/repair-cafe-in-gouden-gunje-422988</a> || <p class="PLAT" pstyle="PLAT">Bezoekers kunnen hier terecht voor het repareren van fietsverlichting, kerstverlichting en elektrische apparaten. Voor kledingreparaties is het Repair Café eveneens beschikbaar. De koffie en thee staan klaar, dus kom gezellig langs.&nbsp;</p>
DESCRIPTION:<a href='/beverwijk/agenda/2024/12/14/repair-cafe-in-gouden-gunje-422988'>/beverwijk/agenda/2024/12/14/repair-cafe-in-gouden-gunje-422988</a> || <p class="PLAT" pstyle="PLAT">Bezoekers kunnen hier terecht voor het repareren van fietsverlichting, kerstverlichting en elektrische apparaten. Voor kledingreparaties is het Repair Café eveneens beschikbaar. De koffie en thee staan klaar, dus kom gezellig langs.&nbsp;</p>
LAST-MODIFIED:20260421T165607Z
LOCATION: Gouden Gunje | Gasthuisstraat 87 Wijk aan Zee
SEQUENCE:0
STATUS:CONFIRMED
SUMMARY:Repair Café in Gouden Gunje
TRANSP:OPAQUE
END:VEVENT
END:VCALENDAR
