BEGIN:VCALENDAR
PRODID:-//PUBBLE//agenda//NL
VERSION:2.0
METHOD:PUBLISH
BEGIN:VEVENT
DTSTART:20250106T113044Z
DTEND:20250106T123044Z
DTSTAMP:20260420T203459Z
UID:e1b72b20-7eae-4a2f-a5de-139b0538a30d
CREATED:20260420T203459Z
NAME:Krabbendammer film op herhaling rodi.nl
X-WR-CALNAME:Krabbendammer film op herhaling
X-ALT-DESC;FMTTYPE=text/html:<a href='/schagen/agenda/2025/2/1/krabbendammer-film-op-herhaling-426440'>/schagen/agenda/2025/2/1/krabbendammer-film-op-herhaling-426440</a> || <p class="LEAD" pstyle="LEAD">KRABBENDAM - Omdat het begin 2024 zo’n groot succes was, wordt de film The Krabbendammer Connection zaterdag 1 februari opnieuw getoond in het kerkje van Krabbendam. Wat speelde er vroeger allemaal op en rond de kijk? Was dat allemaal wel in de haak? In de winter lijkt Krabbendam te sluimeren onder een deken van rust. Zaterdag 1 februari start de film om 20.00 uur aan Kerkpad 15 in Krabbendam. Kaartjes zijn te bestellen via de website van Het Krabbendammer Erfgoed.</p>
DESCRIPTION:<a href='/schagen/agenda/2025/2/1/krabbendammer-film-op-herhaling-426440'>/schagen/agenda/2025/2/1/krabbendammer-film-op-herhaling-426440</a> || <p class="LEAD" pstyle="LEAD">KRABBENDAM - Omdat het begin 2024 zo’n groot succes was, wordt de film The Krabbendammer Connection zaterdag 1 februari opnieuw getoond in het kerkje van Krabbendam. Wat speelde er vroeger allemaal op en rond de kijk? Was dat allemaal wel in de haak? In de winter lijkt Krabbendam te sluimeren onder een deken van rust. Zaterdag 1 februari start de film om 20.00 uur aan Kerkpad 15 in Krabbendam. Kaartjes zijn te bestellen via de website van Het Krabbendammer Erfgoed.</p>
LAST-MODIFIED:20260420T203459Z
LOCATION: Kerkje van Krabbendam |   Krabbendam
SEQUENCE:0
STATUS:CONFIRMED
SUMMARY:Krabbendammer film op herhaling
TRANSP:OPAQUE
END:VEVENT
END:VCALENDAR
