BEGIN:VCALENDAR
PRODID:-//PUBBLE//agenda//NL
VERSION:2.0
METHOD:PUBLISH
BEGIN:VEVENT
DTSTART:20250114T183600Z
DTEND:20250114T193600Z
DTSTAMP:20260422T170353Z
UID:3b5ba53e-25db-4d1d-8adc-299b88f72eeb
CREATED:20260422T170353Z
NAME:‘Saïd lacht alles weg!’ door Saïd el Hassnaoui rodi.nl
X-WR-CALNAME:‘Saïd lacht alles weg!’ door Saïd el Hassnaoui
X-ALT-DESC;FMTTYPE=text/html:<a href='/hoorn/agenda/2025/2/8/said-lacht-alles-weg-door-said-el-hassnaoui-427446'>/hoorn/agenda/2025/2/8/said-lacht-alles-weg-door-said-el-hassnaoui-427446</a> || <p>De voorstelling ‘Said lacht alles weg!’ van Said el Hassnaoui is zaterdag 8 februari te zien in Theater Het Pakhuis. Said is geboren in Marokko en getogen in Veenendaal. Niet één, maar drie culturen rijk. Vooroordelen, culturele verschillen, racisme, noem maar op. Hoe ga je daar mee om? Said laat in ‘Said lacht alles weg!’ zien hoe je iets negatiefs omdraait in iets positiefs. Tickets: <a href="//www.pakhuishoorn.nl">www.pakhuishoorn.nl</a>&nbsp;</p>
DESCRIPTION:<a href='/hoorn/agenda/2025/2/8/said-lacht-alles-weg-door-said-el-hassnaoui-427446'>/hoorn/agenda/2025/2/8/said-lacht-alles-weg-door-said-el-hassnaoui-427446</a> || <p>De voorstelling ‘Said lacht alles weg!’ van Said el Hassnaoui is zaterdag 8 februari te zien in Theater Het Pakhuis. Said is geboren in Marokko en getogen in Veenendaal. Niet één, maar drie culturen rijk. Vooroordelen, culturele verschillen, racisme, noem maar op. Hoe ga je daar mee om? Said laat in ‘Said lacht alles weg!’ zien hoe je iets negatiefs omdraait in iets positiefs. Tickets: <a href="//www.pakhuishoorn.nl">www.pakhuishoorn.nl</a>&nbsp;</p>
LAST-MODIFIED:20260422T170353Z
LOCATION: Theater Het Pakhuis | Onder de Boompjes 21 Hoorn
SEQUENCE:0
STATUS:CONFIRMED
SUMMARY:‘Saïd lacht alles weg!’ door Saïd el Hassnaoui
TRANSP:OPAQUE
END:VEVENT
END:VCALENDAR
