BEGIN:VCALENDAR
PRODID:-//PUBBLE//agenda//NL
VERSION:2.0
METHOD:PUBLISH
BEGIN:VEVENT
DTSTART:20250709T065947Z
DTEND:20250727T150000Z
DTSTAMP:20260423T222814Z
UID:e909b809-5b27-4180-9fc6-38533e1bd793
CREATED:20260423T222814Z
NAME:Expositie: Vier Jaargetijden in Eilandspolder rodi.nl
X-WR-CALNAME:Expositie: Vier Jaargetijden in Eilandspolder
X-ALT-DESC;FMTTYPE=text/html:<a href='/alkmaar/agenda/2025/7/12/expositie-vier-jaargetijden-in-eilandspolder-453938'>/alkmaar/agenda/2025/7/12/expositie-vier-jaargetijden-in-eilandspolder-453938</a> || <p class="PLAT" pstyle="PLAT">DE RIJP - Janny Boerema-Middelveld uit De Rijp exposeert in de weekenden van de maand juli in Museum Jan Boon. Dit keer laat ze foto’s van de Eilandspolder zien die ze in alle jaargetijden maakte. ‘De Vier Jaargetijden in de Eilandspolder’ wordt zaterdag 12 juli om 15.00 uur geopend. Iedereen is welkom om die bij te wonen.</p><p class="PLAT" pstyle="PLAT">De tentoonstelling toont de vele facetten van de Eilandspolder, alle in kleur. Vorige zomer exposeerde Janny onder de titel ‘Het huis van…’ zwart-witfoto’s in Museum Jan Boon; een fotografisch overzicht van jeugdherinneringen dat panden, vaak met huidige bewoners, in het oude centrum van De Rijp liet zien. Als 13-jarige liep ze al met de camera van haar vader door De Rijp en legde dorpsgezichten vast. Later werden vakantiegebieden onderwerp van haar foto’s, gevolgd door veel fotografie van haar woonomgeving.</p><h2 class="OnlineTussenkop">Praktische informatie</h2><p class="PLAT" pstyle="PLAT">De expositie is van 12 tot en met 27 juli elke zaterdag en zondag van 13.00 tot 17.00 uur te bezoeken. Museum Jan Boon is gevestigd aan de Rechtestraat 146, De Rijp. Gratis entree. Gratis Jan Boon Wandelroute.</p>
DESCRIPTION:<a href='/alkmaar/agenda/2025/7/12/expositie-vier-jaargetijden-in-eilandspolder-453938'>/alkmaar/agenda/2025/7/12/expositie-vier-jaargetijden-in-eilandspolder-453938</a> || <p class="PLAT" pstyle="PLAT">DE RIJP - Janny Boerema-Middelveld uit De Rijp exposeert in de weekenden van de maand juli in Museum Jan Boon. Dit keer laat ze foto’s van de Eilandspolder zien die ze in alle jaargetijden maakte. ‘De Vier Jaargetijden in de Eilandspolder’ wordt zaterdag 12 juli om 15.00 uur geopend. Iedereen is welkom om die bij te wonen.</p><p class="PLAT" pstyle="PLAT">De tentoonstelling toont de vele facetten van de Eilandspolder, alle in kleur. Vorige zomer exposeerde Janny onder de titel ‘Het huis van…’ zwart-witfoto’s in Museum Jan Boon; een fotografisch overzicht van jeugdherinneringen dat panden, vaak met huidige bewoners, in het oude centrum van De Rijp liet zien. Als 13-jarige liep ze al met de camera van haar vader door De Rijp en legde dorpsgezichten vast. Later werden vakantiegebieden onderwerp van haar foto’s, gevolgd door veel fotografie van haar woonomgeving.</p><h2 class="OnlineTussenkop">Praktische informatie</h2><p class="PLAT" pstyle="PLAT">De expositie is van 12 tot en met 27 juli elke zaterdag en zondag van 13.00 tot 17.00 uur te bezoeken. Museum Jan Boon is gevestigd aan de Rechtestraat 146, De Rijp. Gratis entree. Gratis Jan Boon Wandelroute.</p>
LAST-MODIFIED:20260423T222814Z
LOCATION: Jan Boom Museum | Rechtestraat 146 De Rijp
SEQUENCE:0
STATUS:CONFIRMED
SUMMARY:Expositie: Vier Jaargetijden in Eilandspolder
TRANSP:OPAQUE
END:VEVENT
END:VCALENDAR
