BEGIN:VCALENDAR
PRODID:-//PUBBLE//agenda//NL
VERSION:2.0
METHOD:PUBLISH
BEGIN:VEVENT
DTSTART:20250716T114854Z
DTEND:20250716T124854Z
DTSTAMP:20260421T165208Z
UID:0bf52ae3-1d61-4223-a77f-77fafec95fc2
CREATED:20260421T165208Z
NAME:Fiets mee met de zomerse Duinentocht rodi.nl
X-WR-CALNAME:Fiets mee met de zomerse Duinentocht
X-ALT-DESC;FMTTYPE=text/html:<a href='/castricum/agenda/2025/7/26/fiets-mee-met-de-zomerse-duinentocht-454988'>/castricum/agenda/2025/7/26/fiets-mee-met-de-zomerse-duinentocht-454988</a> || <p class="PLAT" pstyle="PLAT">CASTRICUM - Geniet samen met je fietsvrienden van de Duinentocht op zaterdag 26 juli.&nbsp;</p><p class="PLAT" pstyle="PLAT">De route voert je door het Noordhollands Duinreservaat. Le Champion heeft routes van 50, 75 en 100 kilometer uitgezet, zodat er voor elk fietsniveau een geschikte route bij zit.&nbsp;</p><h2 class="OnlineTussenkop">Startplaats</h2><p class="PLAT" pstyle="PLAT">Vanuit startplaats Castricum fietsen de deelnemers aan de 50 en 75 kilometer naar het noorden. De 100 kilometerfietsers gaan eerst een stukje zuidelijker, richting Wijk aan Zee. In het noorden is Groet het verste punt voor de 50 kilometer. De 75 en 100 kilometerroutes doen Sint Maartenszee als meest noordelijke punt aan.</p><p class="PLAT" pstyle="PLAT">Aan alle afstanden is deelname met handbike mogelijk. Op de 75 en de 100 kilometerroutes zijn twee stukjes onverhard, dit is ook toegankelijk voor handbikes. Mensen met een e-bike zijn ook van harte welkom om deel te nemen aan de Duinentocht.</p><h2 class="OnlineTussenkop">Meer fietsen</h2><p class="PLAT" pstyle="PLAT">Als member van Le Champion kun je jaarlijks gratis deelnemen aan vier fietstochten. Naast de Duinentocht zijn dat de Kastelentocht op zaterdag 16 augustus, de Markertoer op zaterdag 4 oktober en de 7-Dorpentocht die in 2026 weer op de agenda staat.</p><h2 class="OnlineTussenkop">Goed doel</h2><p class="PLAT" pstyle="PLAT">Het goede doel van de Duinentocht is Fonds Gehandicaptensport. Voor mensen met een handicap is het helaas niet vanzelfsprekend om te sporten. De droom van Fonds Gehandicaptensport is dat iedereen met een handicap dicht bij huis kan sporten. Om mee te helpen aan deze droom kunnen deelnemers een vrijwillige donatie doen bij hun inschrijving.</p><h2 class="OnlineTussenkop">Inschrijven</h2><p class="PLAT" pstyle="PLAT">Wil jij meefietsen op zaterdag 26 juli? Schrijf je dan voor vrijdag 25 juli 12.00 uur in via www.lechampion.nl/duinentocht. Alle deelnemers krijgen een volledig uitgepijlde route, het GPX-bestand van de route, een stuurbordje, stempelkaart en goede ravitaillering onderweg.&nbsp;</p><p class="PLAT" pstyle="PLAT">Afhankelijk van de gekozen afstand betalen reguliere deelnemers &nbsp;9 of 11 euro. Leden van de NTFU krijgen 2 euro korting op het inschrijftarief.</p>
DESCRIPTION:<a href='/castricum/agenda/2025/7/26/fiets-mee-met-de-zomerse-duinentocht-454988'>/castricum/agenda/2025/7/26/fiets-mee-met-de-zomerse-duinentocht-454988</a> || <p class="PLAT" pstyle="PLAT">CASTRICUM - Geniet samen met je fietsvrienden van de Duinentocht op zaterdag 26 juli.&nbsp;</p><p class="PLAT" pstyle="PLAT">De route voert je door het Noordhollands Duinreservaat. Le Champion heeft routes van 50, 75 en 100 kilometer uitgezet, zodat er voor elk fietsniveau een geschikte route bij zit.&nbsp;</p><h2 class="OnlineTussenkop">Startplaats</h2><p class="PLAT" pstyle="PLAT">Vanuit startplaats Castricum fietsen de deelnemers aan de 50 en 75 kilometer naar het noorden. De 100 kilometerfietsers gaan eerst een stukje zuidelijker, richting Wijk aan Zee. In het noorden is Groet het verste punt voor de 50 kilometer. De 75 en 100 kilometerroutes doen Sint Maartenszee als meest noordelijke punt aan.</p><p class="PLAT" pstyle="PLAT">Aan alle afstanden is deelname met handbike mogelijk. Op de 75 en de 100 kilometerroutes zijn twee stukjes onverhard, dit is ook toegankelijk voor handbikes. Mensen met een e-bike zijn ook van harte welkom om deel te nemen aan de Duinentocht.</p><h2 class="OnlineTussenkop">Meer fietsen</h2><p class="PLAT" pstyle="PLAT">Als member van Le Champion kun je jaarlijks gratis deelnemen aan vier fietstochten. Naast de Duinentocht zijn dat de Kastelentocht op zaterdag 16 augustus, de Markertoer op zaterdag 4 oktober en de 7-Dorpentocht die in 2026 weer op de agenda staat.</p><h2 class="OnlineTussenkop">Goed doel</h2><p class="PLAT" pstyle="PLAT">Het goede doel van de Duinentocht is Fonds Gehandicaptensport. Voor mensen met een handicap is het helaas niet vanzelfsprekend om te sporten. De droom van Fonds Gehandicaptensport is dat iedereen met een handicap dicht bij huis kan sporten. Om mee te helpen aan deze droom kunnen deelnemers een vrijwillige donatie doen bij hun inschrijving.</p><h2 class="OnlineTussenkop">Inschrijven</h2><p class="PLAT" pstyle="PLAT">Wil jij meefietsen op zaterdag 26 juli? Schrijf je dan voor vrijdag 25 juli 12.00 uur in via www.lechampion.nl/duinentocht. Alle deelnemers krijgen een volledig uitgepijlde route, het GPX-bestand van de route, een stuurbordje, stempelkaart en goede ravitaillering onderweg.&nbsp;</p><p class="PLAT" pstyle="PLAT">Afhankelijk van de gekozen afstand betalen reguliere deelnemers &nbsp;9 of 11 euro. Leden van de NTFU krijgen 2 euro korting op het inschrijftarief.</p>
LAST-MODIFIED:20260421T165208Z
LOCATION: Restaurant Apicius | Van der Mijleweg 16 Castricum
SEQUENCE:0
STATUS:CONFIRMED
SUMMARY:Fiets mee met de zomerse Duinentocht
TRANSP:OPAQUE
END:VEVENT
END:VCALENDAR
