BEGIN:VCALENDAR
PRODID:-//PUBBLE//agenda//NL
VERSION:2.0
METHOD:PUBLISH
BEGIN:VEVENT
DTSTART:20250806T083853Z
DTEND:20250806T093853Z
DTSTAMP:20260423T161516Z
UID:c6354340-3a83-41bb-96a5-8684f5f2b1ed
CREATED:20260423T161516Z
NAME:Braderie Petten vrijdag met thema Westfriese Folklore rodi.nl
X-WR-CALNAME:Braderie Petten vrijdag met thema Westfriese Folklore
X-ALT-DESC;FMTTYPE=text/html:<a href='/schagen/agenda/2025/8/8/braderie-petten-vrijdag-met-thema-westfriese-folklore-457104'>/schagen/agenda/2025/8/8/braderie-petten-vrijdag-met-thema-westfriese-folklore-457104</a> || <p class="OnlinePlat" pstyle="Online Plat">Het centrum van Petten verandert vrijdag 8 augustus in een bruisend feest tijdens de wekelijkse braderie met dit keer het thema: Westfriese Folklore. Van 17.00 tot 21.00 uur kun je genieten van kramen vol lekkers en koopjes, straattekenen vanaf 18.30 uur en livemuziek van Henk Bakker. </p>
DESCRIPTION:<a href='/schagen/agenda/2025/8/8/braderie-petten-vrijdag-met-thema-westfriese-folklore-457104'>/schagen/agenda/2025/8/8/braderie-petten-vrijdag-met-thema-westfriese-folklore-457104</a> || <p class="OnlinePlat" pstyle="Online Plat">Het centrum van Petten verandert vrijdag 8 augustus in een bruisend feest tijdens de wekelijkse braderie met dit keer het thema: Westfriese Folklore. Van 17.00 tot 21.00 uur kun je genieten van kramen vol lekkers en koopjes, straattekenen vanaf 18.30 uur en livemuziek van Henk Bakker. </p>
LAST-MODIFIED:20260423T161516Z
LOCATION: Het Plein |   Petten
SEQUENCE:0
STATUS:CONFIRMED
SUMMARY:Braderie Petten vrijdag met thema Westfriese Folklore
TRANSP:OPAQUE
END:VEVENT
END:VCALENDAR
