BEGIN:VCALENDAR
PRODID:-//PUBBLE//agenda//NL
VERSION:2.0
METHOD:PUBLISH
BEGIN:VEVENT
DTSTART:20250930T143949Z
DTEND:20251013T101500Z
DTSTAMP:20260421T163110Z
UID:b2cd2500-eae3-4bfa-9237-1919ac800085
CREATED:20260421T163110Z
NAME:Marieke Smithuis bij Laan rodi.nl
X-WR-CALNAME:Marieke Smithuis bij Laan
X-ALT-DESC;FMTTYPE=text/html:<a href='/castricum/agenda/2025/10/13/marieke-smithuis-bij-laan-465047'>/castricum/agenda/2025/10/13/marieke-smithuis-bij-laan-465047</a> || <p class="PLAT" pstyle="PLAT">CASTRICUM - Marieke Smithuis komt maandag 13 en dinsdag 14 oktober bij Laan vertellen over haar laatste twee boeken ‘Umbrador’ en ‘Landhuis vol geheimen’.</p><p class="PLAT" pstyle="PLAT">De lezingen starten 10.15, 11.15 en 13.15 uur. Per keer komen er zo’n vijftig kinderen van omliggende basisscholen en iedereen mag aanschuiven bij de Castricumse auteur.&nbsp;</p><p class="PLAT" pstyle="PLAT">Marieke is een echte rasvertelster die met gemak 50 kinderen geboeid kan laten luisteren naar haar leuke en spannende avontuurboeken. Want zoals ze zegt: ‘’Ik hou van grapjes, sprookjes, familieverhalen, spanning en ontroering en dat vind je allemaal terug in mijn boeken.’’</p><h2 class="OnlineTussenkop">Kinderboekenweek</h2><p class="PLAT" pstyle="PLAT">De Kinderboekenweek is van 1 tot en met 12 oktober met het thema ‘Vol Avontuur’. Het Kinderboekenweekgeschenk Lexie van Kevin Hassing is daarnaast een maand lang geldig als ticket voor Avonturenpark Hellendoorn (Overijssel) of Familiepark Drievliet (Zuid-Holland) voor kinderen tot en met 12 jaar, mits zij worden begeleid door minimaal één betalende volwassene per kind. Het Kinderboekenweekgeschenk Lexie wordt tijdens de Kinderboekenweek cadeau gedaan door de boekhandel bij aankoop van ten minste 13,50 euro aan kinderboeken.</p><h2 class="OnlineTussenkop">Nieuwe schoolboeken</h2><p class="PLAT" pstyle="PLAT">Al meerdere jaren sparen klanten van Laan de kassabonnen van de, in oktober gekochte, kinderboeken en leveren deze in op school. De school kan dan in november met deze bonnen 10 procent van het totaalbedrag krijgen om kinderboeken voor de school van te kopen. Deze actie breidt boekhandel Laan dit jaar ook uit met de webwinkel: als men de factuur, gekregen via kantoorboek.nl, aan de school geeft, zal deze kinderboekenaankoop ook gelden voor de kortingsregeling.</p>
DESCRIPTION:<a href='/castricum/agenda/2025/10/13/marieke-smithuis-bij-laan-465047'>/castricum/agenda/2025/10/13/marieke-smithuis-bij-laan-465047</a> || <p class="PLAT" pstyle="PLAT">CASTRICUM - Marieke Smithuis komt maandag 13 en dinsdag 14 oktober bij Laan vertellen over haar laatste twee boeken ‘Umbrador’ en ‘Landhuis vol geheimen’.</p><p class="PLAT" pstyle="PLAT">De lezingen starten 10.15, 11.15 en 13.15 uur. Per keer komen er zo’n vijftig kinderen van omliggende basisscholen en iedereen mag aanschuiven bij de Castricumse auteur.&nbsp;</p><p class="PLAT" pstyle="PLAT">Marieke is een echte rasvertelster die met gemak 50 kinderen geboeid kan laten luisteren naar haar leuke en spannende avontuurboeken. Want zoals ze zegt: ‘’Ik hou van grapjes, sprookjes, familieverhalen, spanning en ontroering en dat vind je allemaal terug in mijn boeken.’’</p><h2 class="OnlineTussenkop">Kinderboekenweek</h2><p class="PLAT" pstyle="PLAT">De Kinderboekenweek is van 1 tot en met 12 oktober met het thema ‘Vol Avontuur’. Het Kinderboekenweekgeschenk Lexie van Kevin Hassing is daarnaast een maand lang geldig als ticket voor Avonturenpark Hellendoorn (Overijssel) of Familiepark Drievliet (Zuid-Holland) voor kinderen tot en met 12 jaar, mits zij worden begeleid door minimaal één betalende volwassene per kind. Het Kinderboekenweekgeschenk Lexie wordt tijdens de Kinderboekenweek cadeau gedaan door de boekhandel bij aankoop van ten minste 13,50 euro aan kinderboeken.</p><h2 class="OnlineTussenkop">Nieuwe schoolboeken</h2><p class="PLAT" pstyle="PLAT">Al meerdere jaren sparen klanten van Laan de kassabonnen van de, in oktober gekochte, kinderboeken en leveren deze in op school. De school kan dan in november met deze bonnen 10 procent van het totaalbedrag krijgen om kinderboeken voor de school van te kopen. Deze actie breidt boekhandel Laan dit jaar ook uit met de webwinkel: als men de factuur, gekregen via kantoorboek.nl, aan de school geeft, zal deze kinderboekenaankoop ook gelden voor de kortingsregeling.</p>
LAST-MODIFIED:20260421T163110Z
LOCATION: Boekhandel Laan | Burgemeester Mooijstraat 19 Castricum
SEQUENCE:0
STATUS:CONFIRMED
SUMMARY:Marieke Smithuis bij Laan
TRANSP:OPAQUE
END:VEVENT
END:VCALENDAR
