BEGIN:VCALENDAR
PRODID:-//PUBBLE//agenda//NL
VERSION:2.0
METHOD:PUBLISH
BEGIN:VEVENT
DTSTART:20260210T120141Z
DTEND:20260307T215900Z
DTSTAMP:20260421T220732Z
UID:5d8f13c2-3d2c-4bdc-940d-f5a621b5f948
CREATED:20260421T220732Z
NAME:Battle of the Bands rodi.nl
X-WR-CALNAME:Battle of the Bands
X-ALT-DESC;FMTTYPE=text/html:<a href='/dijkenwaard/agenda/2026/3/6/battle-of-the-bands-483530'>/dijkenwaard/agenda/2026/3/6/battle-of-the-bands-483530</a> || <p>Sta jij met jouw band te popelen om het podium te veroveren? Grijp dan je kans tijdens de Battle of the Bands! De inzet is hoog: de winnaar staat straks op het podium van Popweekend Alkmaar!j aan zij met grote acts als Drukwerk en Jan Smit! Het publiek mag niet alleen genieten van lokaal talent, maar heeft &nbsp;ook een belangrijke rol: door te stemmen op &nbsp;hun favoriet bepalen de toeschouwers wie er met de winst vandoor gaat. Reserveer je tickets via www.popweekendalkmaar.nl.</p>
DESCRIPTION:<a href='/dijkenwaard/agenda/2026/3/6/battle-of-the-bands-483530'>/dijkenwaard/agenda/2026/3/6/battle-of-the-bands-483530</a> || <p>Sta jij met jouw band te popelen om het podium te veroveren? Grijp dan je kans tijdens de Battle of the Bands! De inzet is hoog: de winnaar staat straks op het podium van Popweekend Alkmaar!j aan zij met grote acts als Drukwerk en Jan Smit! Het publiek mag niet alleen genieten van lokaal talent, maar heeft &nbsp;ook een belangrijke rol: door te stemmen op &nbsp;hun favoriet bepalen de toeschouwers wie er met de winst vandoor gaat. Reserveer je tickets via www.popweekendalkmaar.nl.</p>
LAST-MODIFIED:20260421T220732Z
LOCATION: Roode Leeuw | Koog  Zuid-Scharwoude
SEQUENCE:0
STATUS:CONFIRMED
SUMMARY:Battle of the Bands
TRANSP:OPAQUE
END:VEVENT
END:VCALENDAR
