BEGIN:VCALENDAR
PRODID:-//PUBBLE//agenda//NL
VERSION:2.0
METHOD:PUBLISH
BEGIN:VEVENT
DTSTART:20260420T131912Z
DTEND:20260420T141912Z
DTSTAMP:20260420T183202Z
UID:5d767e2f-7bc9-4718-8719-f878f7496887
CREATED:20260420T183202Z
NAME:Bijzondere dubbelroman staat centraal bij boekpresentatie in Bergen rodi.nl
X-WR-CALNAME:Bijzondere dubbelroman staat centraal bij boekpresentatie in Bergen
X-ALT-DESC;FMTTYPE=text/html:<a href='/bergen/agenda/2026/4/29/bijzondere-dubbelroman-staat-centraal-bij-boekpresentatie-in-bergen-491393'>/bergen/agenda/2026/4/29/bijzondere-dubbelroman-staat-centraal-bij-boekpresentatie-in-bergen-491393</a> || <p>BERGEN - In de Bibliotheek in Bergen vindt op woensdagavond 29 april een bijzondere boekpresentatie plaats. Schrijfster Marjan Gerrits vertelt deze avond over haar debuut: ‘Als je niets bent – Twee kanten van de oorlog’, een dubbelroman met twee voorkanten waarin twee perspectieven samen één geschiedenis vormen.</p><p>Twee verhalen, één geschiedenis</p><p>Voor dit boek verdiepte Gerrits zich jarenlang in het oorlogsverleden van haar Nederlandse vader en haar Duitse schoonvader. Aan de ene kant staat het verhaal van haar vader Ab, die de verplichte Arbeitseinsatz ontduikt, wordt verraden en uiteindelijk terechtkomt in de concentratiekampen Amersfoort, Buchenwald en Langenstein-Zwieberge. In een wereld van honger, kou en dwangarbeid probeert hij te overleven en zijn menselijkheid te behouden. Aan de andere kant ontvouwt zich het verhaal van haar Duitse schoonvader Albert. Hij groeit op in het nationaalsocialistische Duitsland en wordt ingelijfd bij de Reichsarbeitsdienst en later de Wehrmacht. Ver van huis, in vijandelijk gebied, leeft hij met voortdurende zorgen over het thuisfront en het verlies van alles wat ooit vanzelfsprekend was.</p><p>Praktische informatie</p><p>De boekpresentatie vindt plaats in de bibliotheek in Bergen, Dreef 1, op woensdag 29 april van 20.00 tot 22.00 uur. De toegang is gratis, aanmelden wordt op prijs gesteld. Dat kan via bknw.nl/agenda of bij de klantenservicebalie in de bibliotheek.</p>
DESCRIPTION:<a href='/bergen/agenda/2026/4/29/bijzondere-dubbelroman-staat-centraal-bij-boekpresentatie-in-bergen-491393'>/bergen/agenda/2026/4/29/bijzondere-dubbelroman-staat-centraal-bij-boekpresentatie-in-bergen-491393</a> || <p>BERGEN - In de Bibliotheek in Bergen vindt op woensdagavond 29 april een bijzondere boekpresentatie plaats. Schrijfster Marjan Gerrits vertelt deze avond over haar debuut: ‘Als je niets bent – Twee kanten van de oorlog’, een dubbelroman met twee voorkanten waarin twee perspectieven samen één geschiedenis vormen.</p><p>Twee verhalen, één geschiedenis</p><p>Voor dit boek verdiepte Gerrits zich jarenlang in het oorlogsverleden van haar Nederlandse vader en haar Duitse schoonvader. Aan de ene kant staat het verhaal van haar vader Ab, die de verplichte Arbeitseinsatz ontduikt, wordt verraden en uiteindelijk terechtkomt in de concentratiekampen Amersfoort, Buchenwald en Langenstein-Zwieberge. In een wereld van honger, kou en dwangarbeid probeert hij te overleven en zijn menselijkheid te behouden. Aan de andere kant ontvouwt zich het verhaal van haar Duitse schoonvader Albert. Hij groeit op in het nationaalsocialistische Duitsland en wordt ingelijfd bij de Reichsarbeitsdienst en later de Wehrmacht. Ver van huis, in vijandelijk gebied, leeft hij met voortdurende zorgen over het thuisfront en het verlies van alles wat ooit vanzelfsprekend was.</p><p>Praktische informatie</p><p>De boekpresentatie vindt plaats in de bibliotheek in Bergen, Dreef 1, op woensdag 29 april van 20.00 tot 22.00 uur. De toegang is gratis, aanmelden wordt op prijs gesteld. Dat kan via bknw.nl/agenda of bij de klantenservicebalie in de bibliotheek.</p>
LAST-MODIFIED:20260420T183202Z
LOCATION: Bibliotheek | Dreef 1 Bergen
SEQUENCE:0
STATUS:CONFIRMED
SUMMARY:Bijzondere dubbelroman staat centraal bij boekpresentatie in Bergen
TRANSP:OPAQUE
END:VEVENT
END:VCALENDAR
