BEGIN:VCALENDAR
PRODID:-//PUBBLE//agenda//NL
VERSION:2.0
METHOD:PUBLISH
BEGIN:VEVENT
DTSTART:20260421T073255Z
DTEND:20260421T083255Z
DTSTAMP:20260421T122343Z
UID:1aaf9ced-af5a-4fc6-94ca-f8bbe964ce53
CREATED:20260421T122343Z
NAME:Schagen krijgt bezoek van jong Spaans pianotalent rodi.nl
X-WR-CALNAME:Schagen krijgt bezoek van jong Spaans pianotalent
X-ALT-DESC;FMTTYPE=text/html:<a href='/schagen/agenda/2026/4/25/schagen-krijgt-bezoek-van-jong-spaans-pianotalent-491448'>/schagen/agenda/2026/4/25/schagen-krijgt-bezoek-van-jong-spaans-pianotalent-491448</a> || <p>De Spaanse pianist Miguel Iglesias Lista speelt klassieke meesterwerken van Rachmaninov en Schumann. Het concert, onder auspiciën van International Holland Music Sessions, begint om 20.00 uur. Miguel Iglesias Lista (2002) geldt als een van de meest veelbelovende jonge pianisten van zijn generatie. Tickets kosten 22,50 euro. Jongeren tot en met 18 jaar betalen 12,50 euro. Kaarten zijn verkrijgbaar via www.scagondeluxe.nl.</p>
DESCRIPTION:<a href='/schagen/agenda/2026/4/25/schagen-krijgt-bezoek-van-jong-spaans-pianotalent-491448'>/schagen/agenda/2026/4/25/schagen-krijgt-bezoek-van-jong-spaans-pianotalent-491448</a> || <p>De Spaanse pianist Miguel Iglesias Lista speelt klassieke meesterwerken van Rachmaninov en Schumann. Het concert, onder auspiciën van International Holland Music Sessions, begint om 20.00 uur. Miguel Iglesias Lista (2002) geldt als een van de meest veelbelovende jonge pianisten van zijn generatie. Tickets kosten 22,50 euro. Jongeren tot en met 18 jaar betalen 12,50 euro. Kaarten zijn verkrijgbaar via www.scagondeluxe.nl.</p>
LAST-MODIFIED:20260421T122343Z
LOCATION: Scagon De Luxe |   Schagen
SEQUENCE:0
STATUS:CONFIRMED
SUMMARY:Schagen krijgt bezoek van jong Spaans pianotalent
TRANSP:OPAQUE
END:VEVENT
END:VCALENDAR
