BEGIN:VCALENDAR
PRODID:-//PUBBLE//agenda//NL
VERSION:2.0
METHOD:PUBLISH
BEGIN:VEVENT
DTSTART:20260421T082319Z
DTEND:20260421T092319Z
DTSTAMP:20260421T122323Z
UID:176f6897-9c8d-4f84-97cf-9a01a20d7cb8
CREATED:20260421T122323Z
NAME:Open dag in bosrijk Wildrijk bij Sint Maartenszee rodi.nl
X-WR-CALNAME:Open dag in bosrijk Wildrijk bij Sint Maartenszee
X-ALT-DESC;FMTTYPE=text/html:<a href='/schagen/agenda/2026/4/26/open-dag-in-bosrijk-wildrijk-bij-sint-maartenszee-491470'>/schagen/agenda/2026/4/26/open-dag-in-bosrijk-wildrijk-bij-sint-maartenszee-491470</a> || <p>Wildrijk, een 17 hectare groot historisch bos bij Sint Maartenszee, opent zondag 26 april haar deuren voor een gratis open dag. Vrijwilligers en gidsen staan klaar om bezoekers rond te leiden tussen bloeiende stinzenplanten en zingende vogels. Aanmelden voor de open dag is niet nodig. Van 11.00 tot 16.00 uur staan vrijwilligers en gidsen met een promotiewagen klaar om te vertellen over de natuurgebieden en activiteiten in de Noordkop. </p>
DESCRIPTION:<a href='/schagen/agenda/2026/4/26/open-dag-in-bosrijk-wildrijk-bij-sint-maartenszee-491470'>/schagen/agenda/2026/4/26/open-dag-in-bosrijk-wildrijk-bij-sint-maartenszee-491470</a> || <p>Wildrijk, een 17 hectare groot historisch bos bij Sint Maartenszee, opent zondag 26 april haar deuren voor een gratis open dag. Vrijwilligers en gidsen staan klaar om bezoekers rond te leiden tussen bloeiende stinzenplanten en zingende vogels. Aanmelden voor de open dag is niet nodig. Van 11.00 tot 16.00 uur staan vrijwilligers en gidsen met een promotiewagen klaar om te vertellen over de natuurgebieden en activiteiten in de Noordkop. </p>
LAST-MODIFIED:20260421T122323Z
LOCATION: Het Wildrijk | Zeeweg 2 Sint Maartensbrug
SEQUENCE:0
STATUS:CONFIRMED
SUMMARY:Open dag in bosrijk Wildrijk bij Sint Maartenszee
TRANSP:OPAQUE
END:VEVENT
END:VCALENDAR
