BEGIN:VCALENDAR
PRODID:-//PUBBLE//agenda//NL
VERSION:2.0
METHOD:PUBLISH
BEGIN:VEVENT
DTSTART:20260421T093653Z
DTEND:20260421T103653Z
DTSTAMP:20260426T040308Z
UID:23aaa4f2-f8b2-4b46-a259-c0dda4d44744
CREATED:20260426T040308Z
NAME:Gratis valrisicotest in Limmen rodi.nl
X-WR-CALNAME:Gratis valrisicotest in Limmen
X-ALT-DESC;FMTTYPE=text/html:<a href='/castricum/agenda/2026/4/29/gratis-valrisicotest-in-limmen-491493'>/castricum/agenda/2026/4/29/gratis-valrisicotest-in-limmen-491493</a> || <p>CASTRICUM/LIMMEN - Kom erachter hoe stevig je op je benen staat tijdens een van de valrisicotesten in Limmen en Castricum woensdag 29 en donderdag 30 april.</p><p>Krijg direct inzicht in je valrisico. Woensdag 29 april is de test vanaf 10.00 uur in de gymzaal aan de Hogeweg in Limmen. Donderdag 30 april is de test vanaf 10.00 uur in de gymzaal Walingstuin in Castricum.</p><p>Tijdens de testen wordt ook verteld wat je zelf kunt doen om een val te voorkomen. Blijkt dat je een verhoogd risico hebt, dan helpt de buurtsportcoach je op weg naar een gratis valpreventieprogramma in de buurt, deze gaan in mei weer van start in zowel Castricum als Limmen.</p><p>Aanmelden kan via: www.teamsportservice.nl/kennemerland. Neem bij vragen contact op via 088-2037340 of wassendelft@teamsportservice.nl.</p>
DESCRIPTION:<a href='/castricum/agenda/2026/4/29/gratis-valrisicotest-in-limmen-491493'>/castricum/agenda/2026/4/29/gratis-valrisicotest-in-limmen-491493</a> || <p>CASTRICUM/LIMMEN - Kom erachter hoe stevig je op je benen staat tijdens een van de valrisicotesten in Limmen en Castricum woensdag 29 en donderdag 30 april.</p><p>Krijg direct inzicht in je valrisico. Woensdag 29 april is de test vanaf 10.00 uur in de gymzaal aan de Hogeweg in Limmen. Donderdag 30 april is de test vanaf 10.00 uur in de gymzaal Walingstuin in Castricum.</p><p>Tijdens de testen wordt ook verteld wat je zelf kunt doen om een val te voorkomen. Blijkt dat je een verhoogd risico hebt, dan helpt de buurtsportcoach je op weg naar een gratis valpreventieprogramma in de buurt, deze gaan in mei weer van start in zowel Castricum als Limmen.</p><p>Aanmelden kan via: www.teamsportservice.nl/kennemerland. Neem bij vragen contact op via 088-2037340 of wassendelft@teamsportservice.nl.</p>
LAST-MODIFIED:20260426T040308Z
LOCATION: Gymzaal Hogeweg | Hogeweg  61 Limmen
SEQUENCE:0
STATUS:CONFIRMED
SUMMARY:Gratis valrisicotest in Limmen
TRANSP:OPAQUE
END:VEVENT
END:VCALENDAR
