BEGIN:VCALENDAR
PRODID:-//PUBBLE//agenda//NL
VERSION:2.0
METHOD:PUBLISH
BEGIN:VEVENT
DTSTART:20260421T113426Z
DTEND:20260429T130000Z
DTSTAMP:20260426T040006Z
UID:e81288a9-cadb-4472-b3de-1d3ac2fe1509
CREATED:20260426T040006Z
NAME:Sport- en Spelinstuif rodi.nl
X-WR-CALNAME:Sport- en Spelinstuif
X-ALT-DESC;FMTTYPE=text/html:<a href='/castricum/agenda/2026/4/29/sport-en-spelinstuif-491523'>/castricum/agenda/2026/4/29/sport-en-spelinstuif-491523</a> || <p>Gratis sportieve activiteiten in de meivakantie</p><p>CASTRICUM/HEEMSKERK - Zin in een sportieve activiteit in de meivakantie? Voor kinderen heeft Team Sportservice een gratis programma klaarstaan voor kinderen uit groep 3 tot en met 8 die in Castricum of Heemskerk wonen of er naar school gaan.</p><p>Dinsdag 28 april van 13.00 tot 14.00 en van 14.00 tot 15.00 uur is er een skateclinic op de skeelerbaan van Kees Jongert in Heemskerk. Materiaal is te leen of neem je eigen skatespullen mee. <br /><br />Sport- en Spelinstuif</p><p>Woensdag 29 april van 13.00 tot 15.00 uur is er een Sport- en Spelinstuif op Sportpark Wouterland in Castricum. Maak kennis met hockey, rugby, voetbal en leef je uit op de stormbaan.</p><p>Waterfestijn</p><p>Dinsdag 28 april van 09.00 tot 10.30 en van 10.45 tot 12.15 uur is het Waterfestijn in zwembad de Waterakkers. Het festijn bestaat uit een circuit waarbij je anderhalf uur actief bent in zwembad.</p><p>Beachsporten</p><p>Donderdag 30 april van 13.00 tot 14.30 uur is er Beachsporten. Hier kun je meedoen aan beachvolleybal gegeven door volleybalvereniging Jonas, beachhandbal gegeven door handbalvereniging DSS en beachvoetbal gegeven door Team Sportservice. <br /><br />Aanmelden</p><p>Aanmelden kan uitsluitend via de website Noordhollandactief.nl. De activiteiten zijn te vinden door de filter Evenementen te selecteren. Meer informatie of hulp bij aanmelden? Neem contact op via: kennemerland@teamsportservice.nl.</p>
DESCRIPTION:<a href='/castricum/agenda/2026/4/29/sport-en-spelinstuif-491523'>/castricum/agenda/2026/4/29/sport-en-spelinstuif-491523</a> || <p>Gratis sportieve activiteiten in de meivakantie</p><p>CASTRICUM/HEEMSKERK - Zin in een sportieve activiteit in de meivakantie? Voor kinderen heeft Team Sportservice een gratis programma klaarstaan voor kinderen uit groep 3 tot en met 8 die in Castricum of Heemskerk wonen of er naar school gaan.</p><p>Dinsdag 28 april van 13.00 tot 14.00 en van 14.00 tot 15.00 uur is er een skateclinic op de skeelerbaan van Kees Jongert in Heemskerk. Materiaal is te leen of neem je eigen skatespullen mee. <br /><br />Sport- en Spelinstuif</p><p>Woensdag 29 april van 13.00 tot 15.00 uur is er een Sport- en Spelinstuif op Sportpark Wouterland in Castricum. Maak kennis met hockey, rugby, voetbal en leef je uit op de stormbaan.</p><p>Waterfestijn</p><p>Dinsdag 28 april van 09.00 tot 10.30 en van 10.45 tot 12.15 uur is het Waterfestijn in zwembad de Waterakkers. Het festijn bestaat uit een circuit waarbij je anderhalf uur actief bent in zwembad.</p><p>Beachsporten</p><p>Donderdag 30 april van 13.00 tot 14.30 uur is er Beachsporten. Hier kun je meedoen aan beachvolleybal gegeven door volleybalvereniging Jonas, beachhandbal gegeven door handbalvereniging DSS en beachvoetbal gegeven door Team Sportservice. <br /><br />Aanmelden</p><p>Aanmelden kan uitsluitend via de website Noordhollandactief.nl. De activiteiten zijn te vinden door de filter Evenementen te selecteren. Meer informatie of hulp bij aanmelden? Neem contact op via: kennemerland@teamsportservice.nl.</p>
LAST-MODIFIED:20260426T040006Z
LOCATION: Sportpark Wouterland | Van Haerlemlaan 31B Castricum
SEQUENCE:0
STATUS:CONFIRMED
SUMMARY:Sport- en Spelinstuif
TRANSP:OPAQUE
END:VEVENT
END:VCALENDAR
