BEGIN:VCALENDAR
PRODID:-//PUBBLE//agenda//NL
VERSION:2.0
METHOD:PUBLISH
BEGIN:VEVENT
DTSTART:20260422T095137Z
DTEND:20260422T105137Z
DTSTAMP:20260422T135257Z
UID:0388dd3e-a5b1-43a2-aeb7-8d61973ec39c
CREATED:20260422T135257Z
NAME:Kerkviering op Roepingenzondag rodi.nl
X-WR-CALNAME:Kerkviering op Roepingenzondag
X-ALT-DESC;FMTTYPE=text/html:<a href='/schagen/agenda/2026/4/26/kerkviering-op-roepingenzondag-491739'>/schagen/agenda/2026/4/26/kerkviering-op-roepingenzondag-491739</a> || <p>In de H. Jacobus de Meerdere kerk vindt zondag 26 april een Woord- en Communieviering plaats op Roepingenzondag. Aanvang is 10.00 uur. Sjaak en Ineke Hoogervorst gaan voor in de viering. Koor St. Caecilia verzorgt de muzikale begeleiding. Na de viering is er gelegenheid om samen koffie of thee te drinken. Iedereen is welkom.</p>
DESCRIPTION:<a href='/schagen/agenda/2026/4/26/kerkviering-op-roepingenzondag-491739'>/schagen/agenda/2026/4/26/kerkviering-op-roepingenzondag-491739</a> || <p>In de H. Jacobus de Meerdere kerk vindt zondag 26 april een Woord- en Communieviering plaats op Roepingenzondag. Aanvang is 10.00 uur. Sjaak en Ineke Hoogervorst gaan voor in de viering. Koor St. Caecilia verzorgt de muzikale begeleiding. Na de viering is er gelegenheid om samen koffie of thee te drinken. Iedereen is welkom.</p>
LAST-MODIFIED:20260422T135257Z
LOCATION: Jac. de Meerdere Kerk | Dorpsstraat 41 Tuitjenhorn
SEQUENCE:0
STATUS:CONFIRMED
SUMMARY:Kerkviering op Roepingenzondag
TRANSP:OPAQUE
END:VEVENT
END:VCALENDAR
