BEGIN:VCALENDAR
PRODID:-//PUBBLE//agenda//NL
VERSION:2.0
METHOD:PUBLISH
BEGIN:VEVENT
DTSTART:20260422T110335Z
DTEND:20260425T140000Z
DTSTAMP:20260422T184050Z
UID:d36c08db-d06b-4f76-a3ad-19f44384af35
CREATED:20260422T184050Z
NAME:Boekenmarkt in Koepelkerk rodi.nl
X-WR-CALNAME:Boekenmarkt in Koepelkerk
X-ALT-DESC;FMTTYPE=text/html:<a href='/hoorn/agenda/2026/4/25/boekenmarkt-in-koepelkerk-491772'>/hoorn/agenda/2026/4/25/boekenmarkt-in-koepelkerk-491772</a> || <p>Zaterdag 25 april vindt in de Koepelkerk een boekenmarkt plaats. Bezoekers kunnen terecht voor een grote voorraad boeken, cd’s, lp’s en dvd’s, die voortdurend wordt aangevuld. Alle artikelen kosten één euro. Boekenmarktorganist Peter Huijsman verzorgt een orgelspel. Hij geeft bezoekers ook graag uitleg op de orgelzolder.</p>
DESCRIPTION:<a href='/hoorn/agenda/2026/4/25/boekenmarkt-in-koepelkerk-491772'>/hoorn/agenda/2026/4/25/boekenmarkt-in-koepelkerk-491772</a> || <p>Zaterdag 25 april vindt in de Koepelkerk een boekenmarkt plaats. Bezoekers kunnen terecht voor een grote voorraad boeken, cd’s, lp’s en dvd’s, die voortdurend wordt aangevuld. Alle artikelen kosten één euro. Boekenmarktorganist Peter Huijsman verzorgt een orgelspel. Hij geeft bezoekers ook graag uitleg op de orgelzolder.</p>
LAST-MODIFIED:20260422T184050Z
LOCATION: Koepelkerk | Grote Noord 15 Hoorn
SEQUENCE:0
STATUS:CONFIRMED
SUMMARY:Boekenmarkt in Koepelkerk
TRANSP:OPAQUE
END:VEVENT
END:VCALENDAR
