BEGIN:VCALENDAR
PRODID:-//PUBBLE//agenda//NL
VERSION:2.0
METHOD:PUBLISH
BEGIN:VEVENT
DTSTART:20260423T133351Z
DTEND:20260423T143351Z
DTSTAMP:20260426T041612Z
UID:875bfbe2-2b85-4519-9edb-0e48f6e15cb3
CREATED:20260426T041612Z
NAME:Ontdek wat uilen eten in Schoorl rodi.nl
X-WR-CALNAME:Ontdek wat uilen eten in Schoorl
X-ALT-DESC;FMTTYPE=text/html:<a href='/bergen/agenda/2026/4/30/ontdek-wat-uilen-eten-in-schoorl-492004'>/bergen/agenda/2026/4/30/ontdek-wat-uilen-eten-in-schoorl-492004</a> || <p class="PLAT" pstyle="PLAT">
    <strong>SCHOORL - In de Schoorlse Duinen organiseert Staatsbosbeheer op donderdag 30 april een speurtocht over uilen. Kinderen plooien daarna een braakbal uit om te ontdekken wat deze bijzondere vogels eten.</strong>
</p>
<p class="PLAT" pstyle="PLAT">
    In de Schoorlse Duinen leven ransuilen, bosuilen en soms de velduil. Als het schemert, zijn bosuilen aan de binnenduinrand te horen. Tijdens de speurtocht leren deelnemers meer over het leven van deze nachtdieren. Een braakbal is een kluwen van onverteerbare resten die een uil uitspuugt. Door de bal te pluizen, ontdekken kinderen precies wat de uil heeft gegeten. De activiteit vindt plaats bij Buitencentrum Schoorlse Duinen, Oorsprongweg 1 in Schoorl. Er zijn twee tijdsloten: van 11.00 tot 12.00 uur en van 12.30 tot 13.30 uur. Deelname kost € 6,00 per kind vanaf 8 jaar. Reserveren is verplicht via <u><a href="http://www.staatsbosbeheer.nl/uilenbalschoorl" target="_blank" rel="noopener noreferrer">www.staatsbosbeheer.nl/uilenbalschoorl</a></u>.
</p>
<style></style>
DESCRIPTION:<a href='/bergen/agenda/2026/4/30/ontdek-wat-uilen-eten-in-schoorl-492004'>/bergen/agenda/2026/4/30/ontdek-wat-uilen-eten-in-schoorl-492004</a> || <p class="PLAT" pstyle="PLAT">
    <strong>SCHOORL - In de Schoorlse Duinen organiseert Staatsbosbeheer op donderdag 30 april een speurtocht over uilen. Kinderen plooien daarna een braakbal uit om te ontdekken wat deze bijzondere vogels eten.</strong>
</p>
<p class="PLAT" pstyle="PLAT">
    In de Schoorlse Duinen leven ransuilen, bosuilen en soms de velduil. Als het schemert, zijn bosuilen aan de binnenduinrand te horen. Tijdens de speurtocht leren deelnemers meer over het leven van deze nachtdieren. Een braakbal is een kluwen van onverteerbare resten die een uil uitspuugt. Door de bal te pluizen, ontdekken kinderen precies wat de uil heeft gegeten. De activiteit vindt plaats bij Buitencentrum Schoorlse Duinen, Oorsprongweg 1 in Schoorl. Er zijn twee tijdsloten: van 11.00 tot 12.00 uur en van 12.30 tot 13.30 uur. Deelname kost € 6,00 per kind vanaf 8 jaar. Reserveren is verplicht via <u><a href="http://www.staatsbosbeheer.nl/uilenbalschoorl" target="_blank" rel="noopener noreferrer">www.staatsbosbeheer.nl/uilenbalschoorl</a></u>.
</p>
<style></style>
LAST-MODIFIED:20260426T041612Z
LOCATION: Buitencentrum Schoorlse Duinen | Oorsprongweg 1 Schoorl
SEQUENCE:0
STATUS:CONFIRMED
SUMMARY:Ontdek wat uilen eten in Schoorl
TRANSP:OPAQUE
END:VEVENT
END:VCALENDAR
