BEGIN:VCALENDAR
PRODID:-//PUBBLE//agenda//NL
VERSION:2.0
METHOD:PUBLISH
BEGIN:VEVENT
DTSTART:20260424T101135Z
DTEND:20260424T111135Z
DTSTAMP:20260424T182457Z
UID:485f89aa-f29e-4e6d-a16c-18958e6f548d
CREATED:20260424T182457Z
NAME:Vroege vogel wandeling rodi.nl
X-WR-CALNAME:Vroege vogel wandeling
X-ALT-DESC;FMTTYPE=text/html:<a href='/schagen/agenda/2026/4/26/vroege-vogel-wandeling-492055'>/schagen/agenda/2026/4/26/vroege-vogel-wandeling-492055</a> || <p>Sta vroeg op en beleef de natuur op haar mooist! Tijdens deze excursie luister en kijk je naar de eerste vogels van de dag. Onder begeleiding van een boswachter ontdek je hun zang, gedrag en favoriete plekken in het gebied. Alle excursies vertrekken vanaf de parkeerplaats aan de Zuidschinkeldijk 3a in Callantsoog. Aanmelden kan via <a href="http://www.nm.nl/agenda/zwanenwater" target="_blank" rel="noopener noreferrer"><u>www.nm.nl/agenda/zwanenwater</u></a>.</p>
DESCRIPTION:<a href='/schagen/agenda/2026/4/26/vroege-vogel-wandeling-492055'>/schagen/agenda/2026/4/26/vroege-vogel-wandeling-492055</a> || <p>Sta vroeg op en beleef de natuur op haar mooist! Tijdens deze excursie luister en kijk je naar de eerste vogels van de dag. Onder begeleiding van een boswachter ontdek je hun zang, gedrag en favoriete plekken in het gebied. Alle excursies vertrekken vanaf de parkeerplaats aan de Zuidschinkeldijk 3a in Callantsoog. Aanmelden kan via <a href="http://www.nm.nl/agenda/zwanenwater" target="_blank" rel="noopener noreferrer"><u>www.nm.nl/agenda/zwanenwater</u></a>.</p>
LAST-MODIFIED:20260424T182457Z
LOCATION: Zwanenwater | Zuidschinkeldijk 3a Callantsoog
SEQUENCE:0
STATUS:CONFIRMED
SUMMARY:Vroege vogel wandeling
TRANSP:OPAQUE
END:VEVENT
END:VCALENDAR
