BEGIN:VCALENDAR
PRODID:-//PUBBLE//agenda//NL
VERSION:2.0
METHOD:PUBLISH
BEGIN:VEVENT
DTSTART:20260424T101400Z
DTEND:20260424T111400Z
DTSTAMP:20260426T041735Z
UID:b5f93b87-db4c-4f06-a0f9-65ca6452a3fe
CREATED:20260426T041735Z
NAME:Strandopruiming in Petten rodi.nl
X-WR-CALNAME:Strandopruiming in Petten
X-ALT-DESC;FMTTYPE=text/html:<a href='/schagen/agenda/2026/4/26/strandopruiming-in-petten-492056'>/schagen/agenda/2026/4/26/strandopruiming-in-petten-492056</a> || <p>Vrijwilligers houden zondag 26 april van 10.00 tot circa 12.00 uur een strandopruiming bij Petten. Tijdens een wandeling wordt zwerfafval zoals plastic, blikjes en flessen verzameld. De actie is onderdeel van het Groene Strand Project, dat zich inzet voor schonere en natuurlijkere stranden. Verzamelen gebeurt bij strandpaviljoen Zee en Zo. Handschoenen en grijpers zijn aanwezig.</p>
DESCRIPTION:<a href='/schagen/agenda/2026/4/26/strandopruiming-in-petten-492056'>/schagen/agenda/2026/4/26/strandopruiming-in-petten-492056</a> || <p>Vrijwilligers houden zondag 26 april van 10.00 tot circa 12.00 uur een strandopruiming bij Petten. Tijdens een wandeling wordt zwerfafval zoals plastic, blikjes en flessen verzameld. De actie is onderdeel van het Groene Strand Project, dat zich inzet voor schonere en natuurlijkere stranden. Verzamelen gebeurt bij strandpaviljoen Zee en Zo. Handschoenen en grijpers zijn aanwezig.</p>
LAST-MODIFIED:20260426T041735Z
LOCATION: Zee en Zo | Strandslag Centrum 2 Petten
SEQUENCE:0
STATUS:CONFIRMED
SUMMARY:Strandopruiming in Petten
TRANSP:OPAQUE
END:VEVENT
END:VCALENDAR
